Package: logicFS Version: 2.29.0 Command: /Library/Frameworks/R.framework/Resources/bin/R CMD check --install=check:logicFS.install-out.txt --library=/Library/Frameworks/R.framework/Resources/library --no-vignettes --timings logicFS_2.29.0.tar.gz StartedAt: 2025-10-13 20:11:28 -0400 (Mon, 13 Oct 2025) EndedAt: 2025-10-13 20:11:52 -0400 (Mon, 13 Oct 2025) EllapsedTime: 23.3 seconds RetCode: 0 Status: OK CheckDir: logicFS.Rcheck Warnings: 0