Package: loci2path Version: 1.31.0 Command: /home/biocbuild/bbs-3.23-bioc/R/bin/R CMD INSTALL loci2path StartedAt: 2025-11-06 15:14:21 -0500 (Thu, 06 Nov 2025) EndedAt: 2025-11-06 15:14:32 -0500 (Thu, 06 Nov 2025) EllapsedTime: 11.0 seconds RetCode: 0 Status: OK