Package: loci2path Version: 1.31.0 Command: /home/biocbuild/bbs-3.23-bioc/R/bin/R CMD build --keep-empty-dirs --no-resave-data loci2path StartedAt: 2025-11-06 18:17:11 -0500 (Thu, 06 Nov 2025) EndedAt: 2025-11-06 18:17:30 -0500 (Thu, 06 Nov 2025) EllapsedTime: 19.0 seconds RetCode: 0 Status: OK PackageFile: loci2path_1.31.0.tar.gz PackageFileSize: 609 KiB