Package: loci2path Version: 1.29.1 Command: /Library/Frameworks/R.framework/Resources/bin/R CMD INSTALL loci2path StartedAt: 2025-10-24 15:25:17 -0400 (Fri, 24 Oct 2025) EndedAt: 2025-10-24 15:25:34 -0400 (Fri, 24 Oct 2025) EllapsedTime: 16.4 seconds RetCode: 0 Status: OK