Package: loci2path Version: 1.29.1 Command: rm -rf loci2path.buildbin-libdir && mkdir loci2path.buildbin-libdir && /Users/biocbuild/BBS/utils/build-universal.sh loci2path_1.29.1.tar.gz /Library/Frameworks/R.framework/Resources/bin/R loci2path.buildbin-libdir StartedAt: 2025-10-25 01:47:19 -0400 (Sat, 25 Oct 2025) EndedAt: 2025-10-25 01:47:39 -0400 (Sat, 25 Oct 2025) EllapsedTime: 19.8 seconds RetCode: 0 Status: OK PackageFile: loci2path_1.29.1.tgz PackageFileSize: 805.9 KiB