Package: lmdme Version: 1.51.0 Command: /home/biocbuild/R/R/bin/R CMD INSTALL lmdme StartedAt: 2025-10-20 20:21:55 -0000 (Mon, 20 Oct 2025) EndedAt: 2025-10-20 20:22:27 -0000 (Mon, 20 Oct 2025) EllapsedTime: 32.5 seconds RetCode: 0 Status: OK