Package: lmdme Version: 1.51.0 Command: /home/biocbuild/R/R/bin/R CMD build --keep-empty-dirs --no-resave-data lmdme StartedAt: 2025-10-21 00:49:17 -0000 (Tue, 21 Oct 2025) EndedAt: 2025-10-21 00:49:29 -0000 (Tue, 21 Oct 2025) EllapsedTime: 12.0 seconds RetCode: 0 Status: OK PackageFile: lmdme_1.51.0.tar.gz PackageFileSize: 594.7 KiB