Package: lmdme Version: 1.53.0 Command: /home/biocbuild/bbs-3.23-bioc/R/bin/R CMD check --install=check:lmdme.install-out.txt --library=/home/biocbuild/bbs-3.23-bioc/R/site-library --timings lmdme_1.53.0.tar.gz StartedAt: 2025-11-21 00:56:45 -0500 (Fri, 21 Nov 2025) EndedAt: 2025-11-21 00:57:35 -0500 (Fri, 21 Nov 2025) EllapsedTime: 50.1 seconds RetCode: 0 Status: WARNINGS CheckDir: lmdme.Rcheck Warnings: 1