Package: lisaClust Version: 1.17.0 Command: /Library/Frameworks/R.framework/Resources/bin/R CMD INSTALL lisaClust StartedAt: 2025-10-07 15:33:20 -0400 (Tue, 07 Oct 2025) EndedAt: 2025-10-07 15:33:59 -0400 (Tue, 07 Oct 2025) EllapsedTime: 39.6 seconds RetCode: 0 Status: OK