Package: lisaClust Version: 1.17.0 Command: /Library/Frameworks/R.framework/Resources/bin/R CMD build --keep-empty-dirs --no-resave-data lisaClust StartedAt: 2025-10-07 17:40:15 -0400 (Tue, 07 Oct 2025) EndedAt: 2025-10-07 17:45:39 -0400 (Tue, 07 Oct 2025) EllapsedTime: 323.2 seconds RetCode: 0 Status: OK PackageFile: lisaClust_1.17.0.tar.gz PackageFileSize: 2.553 MiB