Package: lisaClust Version: 1.17.0 Maintainer: Ellis Patrick MaintainerEmail: ellis.patrick at sydney.edu.au git_url: https://git.bioconductor.org/packages/lisaClust git_branch: devel git_last_commit: c9cf0e3 git_last_commit_date: 2025-04-15 12:22:27 -0400 (Tue, 15 Apr 2025)