Package: lipidr Version: 2.25.0 Command: /home/biocbuild/bbs-3.23-bioc/R/bin/R CMD INSTALL lipidr StartedAt: 2025-11-20 15:38:27 -0500 (Thu, 20 Nov 2025) EndedAt: 2025-11-20 15:38:56 -0500 (Thu, 20 Nov 2025) EllapsedTime: 29.0 seconds RetCode: 0 Status: OK