Package: lipidr Version: 2.25.0 Command: /home/biocbuild/bbs-3.23-bioc/R/bin/R CMD build --keep-empty-dirs --no-resave-data lipidr StartedAt: 2025-11-20 18:21:47 -0500 (Thu, 20 Nov 2025) EndedAt: 2025-11-20 18:22:41 -0500 (Thu, 20 Nov 2025) EllapsedTime: 54.1 seconds RetCode: 0 Status: OK PackageFile: lipidr_2.25.0.tar.gz PackageFileSize: 3.344 MiB