Package: lipidr Version: 2.23.0 Command: /Library/Frameworks/R.framework/Resources/bin/R CMD build --keep-empty-dirs --no-resave-data lipidr StartedAt: 2025-10-28 17:32:22 -0400 (Tue, 28 Oct 2025) EndedAt: 2025-10-28 17:33:28 -0400 (Tue, 28 Oct 2025) EllapsedTime: 66.2 seconds RetCode: 0 Status: OK PackageFile: lipidr_2.23.0.tar.gz PackageFileSize: 3.391 MiB