Package: lipidr Version: 2.23.0 Command: rm -rf lipidr.buildbin-libdir && mkdir lipidr.buildbin-libdir && /Users/biocbuild/BBS/utils/build-universal.sh lipidr_2.23.0.tar.gz /Library/Frameworks/R.framework/Resources/bin/R lipidr.buildbin-libdir StartedAt: 2025-10-29 01:41:53 -0400 (Wed, 29 Oct 2025) EndedAt: 2025-10-29 01:42:37 -0400 (Wed, 29 Oct 2025) EllapsedTime: 44.1 seconds RetCode: 0 Status: OK PackageFile: lipidr_2.23.0.tgz PackageFileSize: 3.539 MiB