Package: lipidr Version: 2.23.0 Command: /Library/Frameworks/R.framework/Resources/bin/R CMD INSTALL lipidr StartedAt: 2025-10-05 15:19:57 -0400 (Sun, 05 Oct 2025) EndedAt: 2025-10-05 15:20:09 -0400 (Sun, 05 Oct 2025) EllapsedTime: 12.0 seconds RetCode: 0 Status: OK