Package: lipidr Version: 2.23.0 Command: /Library/Frameworks/R.framework/Resources/bin/R CMD build --keep-empty-dirs --no-resave-data lipidr StartedAt: 2025-10-05 16:53:34 -0400 (Sun, 05 Oct 2025) EndedAt: 2025-10-05 16:53:58 -0400 (Sun, 05 Oct 2025) EllapsedTime: 23.3 seconds RetCode: 0 Status: OK PackageFile: lipidr_2.23.0.tar.gz PackageFileSize: 3.391 MiB