Package: lipidr Version: 2.23.0 Command: rm -rf lipidr.buildbin-libdir && mkdir lipidr.buildbin-libdir && /Users/biocbuild/BBS/utils/build-universal.sh lipidr_2.23.0.tar.gz /Library/Frameworks/R.framework/Resources/bin/R lipidr.buildbin-libdir StartedAt: 2025-10-05 22:47:52 -0400 (Sun, 05 Oct 2025) EndedAt: 2025-10-05 22:48:05 -0400 (Sun, 05 Oct 2025) EllapsedTime: 13.3 seconds RetCode: 0 Status: OK PackageFile: lipidr_2.23.0.tgz PackageFileSize: 3.542 MiB