Package: lionessR Version: 1.23.0 Command: /Library/Frameworks/R.framework/Resources/bin/R CMD build --keep-empty-dirs --no-resave-data lionessR StartedAt: 2025-10-10 16:51:25 -0400 (Fri, 10 Oct 2025) EndedAt: 2025-10-10 16:51:34 -0400 (Fri, 10 Oct 2025) EllapsedTime: 9.1 seconds RetCode: 0 Status: OK PackageFile: lionessR_1.23.0.tar.gz PackageFileSize: 2.85 MiB