Package: lionessR Version: 1.23.0 Command: rm -rf lionessR.buildbin-libdir && mkdir lionessR.buildbin-libdir && /Users/biocbuild/BBS/utils/build-universal.sh lionessR_1.23.0.tar.gz /Library/Frameworks/R.framework/Resources/bin/R lionessR.buildbin-libdir StartedAt: 2025-10-10 22:46:04 -0400 (Fri, 10 Oct 2025) EndedAt: 2025-10-10 22:46:06 -0400 (Fri, 10 Oct 2025) EllapsedTime: 2.1 seconds RetCode: 0 Status: OK PackageFile: lionessR_1.23.0.tgz PackageFileSize: 3.433 MiB