Package: linkSet Version: 0.99.19 Command: chmod a+r linkSet -R && F:\biocbuild\bbs-3.22-bioc\R\bin\R.exe CMD build --keep-empty-dirs --no-resave-data linkSet StartedAt: 2025-08-14 21:07:50 -0400 (Thu, 14 Aug 2025) EndedAt: 2025-08-14 21:09:41 -0400 (Thu, 14 Aug 2025) EllapsedTime: 111.3 seconds RetCode: 1 Status: ERROR PackageFile: None PackageFileSize: NA