Package: linkSet Version: 1.1.0 Command: /home/biocbuild/bbs-3.23-bioc/R/bin/R CMD check --install=check:linkSet.install-out.txt --library=/home/biocbuild/bbs-3.23-bioc/R/site-library --timings linkSet_1.1.0.tar.gz StartedAt: 2025-11-07 00:38:49 -0500 (Fri, 07 Nov 2025) EndedAt: 2025-11-07 00:45:11 -0500 (Fri, 07 Nov 2025) EllapsedTime: 381.8 seconds RetCode: 0 Status: WARNINGS CheckDir: linkSet.Rcheck Warnings: 1