Package: lineagespot Version: 1.13.0 Command: /Library/Frameworks/R.framework/Resources/bin/R CMD build --keep-empty-dirs --no-resave-data lineagespot StartedAt: 2025-10-17 17:50:09 -0400 (Fri, 17 Oct 2025) EndedAt: 2025-10-17 17:51:41 -0400 (Fri, 17 Oct 2025) EllapsedTime: 91.8 seconds RetCode: 0 Status: OK PackageFile: lineagespot_1.13.0.tar.gz PackageFileSize: 718.6 KiB