Package: lineagespot Version: 1.13.0 Command: /Library/Frameworks/R.framework/Resources/bin/R CMD build --keep-empty-dirs --no-resave-data lineagespot StartedAt: 2025-10-03 16:50:36 -0400 (Fri, 03 Oct 2025) EndedAt: 2025-10-03 16:51:02 -0400 (Fri, 03 Oct 2025) EllapsedTime: 26.3 seconds RetCode: 0 Status: OK PackageFile: lineagespot_1.13.0.tar.gz PackageFileSize: 718.5 KiB