Package: lineagespot Version: 1.13.0 Command: rm -rf lineagespot.buildbin-libdir && mkdir lineagespot.buildbin-libdir && /Users/biocbuild/BBS/utils/build-universal.sh lineagespot_1.13.0.tar.gz /Library/Frameworks/R.framework/Resources/bin/R lineagespot.buildbin-libdir StartedAt: 2025-10-03 22:44:09 -0400 (Fri, 03 Oct 2025) EndedAt: 2025-10-03 22:44:25 -0400 (Fri, 03 Oct 2025) EllapsedTime: 16.4 seconds RetCode: 0 Status: OK PackageFile: lineagespot_1.13.0.tgz PackageFileSize: 767.9 KiB