Package: limpca Version: 1.7.0 Command: /home/biocbuild/bbs-3.23-bioc/R/bin/R CMD INSTALL limpca StartedAt: 2025-11-20 15:22:05 -0500 (Thu, 20 Nov 2025) EndedAt: 2025-11-20 15:22:29 -0500 (Thu, 20 Nov 2025) EllapsedTime: 24.8 seconds RetCode: 0 Status: OK