Package: limpca Version: 1.7.0 Command: /home/biocbuild/bbs-3.23-bioc/R/bin/R CMD build --keep-empty-dirs --no-resave-data limpca StartedAt: 2025-11-20 18:20:58 -0500 (Thu, 20 Nov 2025) EndedAt: 2025-11-20 18:23:10 -0500 (Thu, 20 Nov 2025) EllapsedTime: 132.2 seconds RetCode: 0 Status: OK PackageFile: limpca_1.7.0.tar.gz PackageFileSize: 4.737 MiB