Package: limpca Version: 1.7.0 Command: /Library/Frameworks/R.framework/Resources/bin/R CMD INSTALL limpca StartedAt: 2025-11-20 15:14:07 -0500 (Thu, 20 Nov 2025) EndedAt: 2025-11-20 15:14:17 -0500 (Thu, 20 Nov 2025) EllapsedTime: 10.4 seconds RetCode: 0 Status: OK