Package: limpa Version: 1.3.0 Command: /home/biocbuild/bbs-3.23-bioc/R/bin/R CMD INSTALL limpa StartedAt: 2025-10-31 15:10:50 -0400 (Fri, 31 Oct 2025) EndedAt: 2025-10-31 15:10:55 -0400 (Fri, 31 Oct 2025) EllapsedTime: 4.5 seconds RetCode: 0 Status: OK