Package: limpa Version: 1.3.0 Command: /home/biocbuild/bbs-3.23-bioc/R/bin/R CMD build --keep-empty-dirs --no-resave-data limpa StartedAt: 2025-10-31 18:30:17 -0400 (Fri, 31 Oct 2025) EndedAt: 2025-10-31 18:30:26 -0400 (Fri, 31 Oct 2025) EllapsedTime: 9.0 seconds RetCode: 0 Status: OK PackageFile: limpa_1.3.0.tar.gz PackageFileSize: 539.7 KiB