Package: limpa Version: 1.3.1 Command: /Library/Frameworks/R.framework/Resources/bin/R CMD INSTALL limpa StartedAt: 2025-11-21 15:10:47 -0500 (Fri, 21 Nov 2025) EndedAt: 2025-11-21 15:11:27 -0500 (Fri, 21 Nov 2025) EllapsedTime: 40.4 seconds RetCode: 0 Status: OK