Package: limpa Version: 1.3.1 Command: /Library/Frameworks/R.framework/Resources/bin/R CMD build --keep-empty-dirs --no-resave-data limpa StartedAt: 2025-11-20 17:31:40 -0500 (Thu, 20 Nov 2025) EndedAt: 2025-11-20 17:31:54 -0500 (Thu, 20 Nov 2025) EllapsedTime: 13.8 seconds RetCode: 0 Status: OK PackageFile: limpa_1.3.1.tar.gz PackageFileSize: 523.4 KiB