Package: limpa Version: 1.3.1 Command: rm -rf limpa.buildbin-libdir && mkdir limpa.buildbin-libdir && /Users/biocbuild/BBS/utils/build-universal.sh limpa_1.3.1.tar.gz /Library/Frameworks/R.framework/Resources/bin/R limpa.buildbin-libdir StartedAt: 2025-11-21 01:40:30 -0500 (Fri, 21 Nov 2025) EndedAt: 2025-11-21 01:40:41 -0500 (Fri, 21 Nov 2025) EllapsedTime: 10.4 seconds RetCode: 0 Status: OK PackageFile: limpa_1.3.1.tgz PackageFileSize: 735.7 KiB