Package: limpa Version: 1.1.7 Command: /Library/Frameworks/R.framework/Resources/bin/R CMD build --keep-empty-dirs --no-resave-data limpa StartedAt: 2025-10-24 16:52:36 -0400 (Fri, 24 Oct 2025) EndedAt: 2025-10-24 16:52:41 -0400 (Fri, 24 Oct 2025) EllapsedTime: 5.1 seconds RetCode: 0 Status: OK PackageFile: limpa_1.1.7.tar.gz PackageFileSize: 522.5 KiB