Package: limpa Version: 1.1.7 Command: rm -rf limpa.buildbin-libdir && mkdir limpa.buildbin-libdir && /Users/biocbuild/BBS/utils/build-universal.sh limpa_1.1.7.tar.gz /Library/Frameworks/R.framework/Resources/bin/R limpa.buildbin-libdir StartedAt: 2025-10-24 23:07:51 -0400 (Fri, 24 Oct 2025) EndedAt: 2025-10-24 23:07:54 -0400 (Fri, 24 Oct 2025) EllapsedTime: 3.1 seconds RetCode: 0 Status: OK PackageFile: limpa_1.1.7.tgz PackageFileSize: 736 KiB