Package: limmaGUI Version: 1.85.0 Command: /home/biocbuild/R/R/bin/R CMD INSTALL limmaGUI StartedAt: 2025-10-02 20:20:32 -0000 (Thu, 02 Oct 2025) EndedAt: 2025-10-02 20:21:14 -0000 (Thu, 02 Oct 2025) EllapsedTime: 42.5 seconds RetCode: 0 Status: OK