Package: limmaGUI Version: 1.87.0 Command: /home/biocbuild/bbs-3.23-bioc/R/bin/R CMD INSTALL limmaGUI StartedAt: 2025-10-31 15:12:40 -0400 (Fri, 31 Oct 2025) EndedAt: 2025-10-31 15:13:08 -0400 (Fri, 31 Oct 2025) EllapsedTime: 28.0 seconds RetCode: 0 Status: OK