Package: limmaGUI Version: 1.87.0 Command: /home/biocbuild/bbs-3.23-bioc/R/bin/R CMD check --install=check:limmaGUI.install-out.txt --library=/home/biocbuild/bbs-3.23-bioc/R/site-library --timings limmaGUI_1.87.0.tar.gz StartedAt: 2025-11-01 00:36:26 -0400 (Sat, 01 Nov 2025) EndedAt: 2025-11-01 00:37:18 -0400 (Sat, 01 Nov 2025) EllapsedTime: 52.1 seconds RetCode: 0 Status: OK CheckDir: limmaGUI.Rcheck Warnings: 0