Package: limma Version: 3.67.0 Command: /home/biocbuild/bbs-3.23-bioc/R/bin/R CMD INSTALL limma StartedAt: 2025-11-20 15:01:57 -0500 (Thu, 20 Nov 2025) EndedAt: 2025-11-20 15:02:19 -0500 (Thu, 20 Nov 2025) EllapsedTime: 22.1 seconds RetCode: 0 Status: OK