Package: limma Version: 3.67.0 Command: /home/biocbuild/bbs-3.23-bioc/R/bin/R CMD build --keep-empty-dirs --no-resave-data limma StartedAt: 2025-11-20 18:20:34 -0500 (Thu, 20 Nov 2025) EndedAt: 2025-11-20 18:20:58 -0500 (Thu, 20 Nov 2025) EllapsedTime: 24.0 seconds RetCode: 0 Status: OK PackageFile: limma_3.67.0.tar.gz PackageFileSize: 2.717 MiB