Package: limma Version: 3.65.5 Command: /Library/Frameworks/R.framework/Resources/bin/R CMD build --keep-empty-dirs --no-resave-data limma StartedAt: 2025-10-12 16:48:03 -0400 (Sun, 12 Oct 2025) EndedAt: 2025-10-12 16:48:16 -0400 (Sun, 12 Oct 2025) EllapsedTime: 12.1 seconds RetCode: 0 Status: OK PackageFile: limma_3.65.5.tar.gz PackageFileSize: 2.717 MiB