Package: limma Version: 3.65.5 Command: rm -rf limma.buildbin-libdir && mkdir limma.buildbin-libdir && /Users/biocbuild/BBS/utils/build-universal.sh limma_3.65.5.tar.gz /Library/Frameworks/R.framework/Resources/bin/R limma.buildbin-libdir StartedAt: 2025-10-12 22:41:58 -0400 (Sun, 12 Oct 2025) EndedAt: 2025-10-12 22:42:05 -0400 (Sun, 12 Oct 2025) EllapsedTime: 7.2 seconds RetCode: 0 Status: OK PackageFile: limma_3.65.5.tgz PackageFileSize: 3.021 MiB