Package: lfa Version: 2.11.0 Command: /home/biocbuild/bbs-3.23-bioc/R/bin/R CMD INSTALL lfa StartedAt: 2025-11-07 15:05:32 -0500 (Fri, 07 Nov 2025) EndedAt: 2025-11-07 15:05:40 -0500 (Fri, 07 Nov 2025) EllapsedTime: 8.1 seconds RetCode: 0 Status: OK