Package: lfa Version: 2.11.0 Command: /home/biocbuild/bbs-3.23-bioc/R/bin/R CMD build --keep-empty-dirs --no-resave-data lfa StartedAt: 2025-11-07 18:16:56 -0500 (Fri, 07 Nov 2025) EndedAt: 2025-11-07 18:17:06 -0500 (Fri, 07 Nov 2025) EllapsedTime: 10.0 seconds RetCode: 0 Status: OK PackageFile: lfa_2.11.0.tar.gz PackageFileSize: 341.5 KiB