Package: levi Version: 1.29.0 Command: /home/biocbuild/bbs-3.23-bioc/R/bin/R CMD INSTALL levi StartedAt: 2025-11-20 15:09:47 -0500 (Thu, 20 Nov 2025) EndedAt: 2025-11-20 15:10:06 -0500 (Thu, 20 Nov 2025) EllapsedTime: 19.0 seconds RetCode: 0 Status: OK