Package: levi Version: 1.29.0 Command: /home/biocbuild/bbs-3.23-bioc/R/bin/R CMD build --keep-empty-dirs --no-resave-data levi StartedAt: 2025-11-20 18:20:20 -0500 (Thu, 20 Nov 2025) EndedAt: 2025-11-20 18:22:47 -0500 (Thu, 20 Nov 2025) EllapsedTime: 147.2 seconds RetCode: 0 Status: OK PackageFile: levi_1.29.0.tar.gz PackageFileSize: 2.774 MiB