Package: levi Version: 1.27.0 Command: rm -rf levi.buildbin-libdir && mkdir levi.buildbin-libdir && /Users/biocbuild/BBS/utils/build-universal.sh levi_1.27.0.tar.gz /Library/Frameworks/R.framework/Resources/bin/R levi.buildbin-libdir StartedAt: 2025-10-17 03:57:22 -0400 (Fri, 17 Oct 2025) EndedAt: 2025-10-17 03:57:50 -0400 (Fri, 17 Oct 2025) EllapsedTime: 27.9 seconds RetCode: 0 Status: OK PackageFile: levi_1.27.0.tgz PackageFileSize: 2.353 MiB