Package: levi Version: 1.29.0 Maintainer: Jose Luiz Rybarczyk Filho MaintainerEmail: jose.luiz at unesp.br git_url: https://git.bioconductor.org/packages/levi git_branch: devel git_last_commit: c626489 git_last_commit_date: 2025-10-29 10:48:12 -0400 (Wed, 29 Oct 2025)