Package: les Version: 1.59.0 Command: /home/biocbuild/bbs-3.22-bioc/R/bin/R CMD INSTALL les StartedAt: 2025-10-19 15:05:37 -0400 (Sun, 19 Oct 2025) EndedAt: 2025-10-19 15:06:00 -0400 (Sun, 19 Oct 2025) EllapsedTime: 23.8 seconds RetCode: 0 Status: OK