Package: lemur Version: 1.9.0 Command: /home/biocbuild/bbs-3.23-bioc/R/bin/R CMD INSTALL lemur StartedAt: 2025-11-18 16:18:23 -0500 (Tue, 18 Nov 2025) EndedAt: 2025-11-18 16:19:02 -0500 (Tue, 18 Nov 2025) EllapsedTime: 39.3 seconds RetCode: 0 Status: OK